Package: GA4GHclient Version: 1.34.0 Command: /home/biocbuild/R/R/bin/R CMD build --keep-empty-dirs --no-resave-data GA4GHclient StartedAt: 2025-11-11 01:48:00 -0000 (Tue, 11 Nov 2025) EndedAt: 2025-11-11 01:49:48 -0000 (Tue, 11 Nov 2025) EllapsedTime: 108.0 seconds RetCode: 0 Status: OK PackageFile: GA4GHclient_1.34.0.tar.gz PackageFileSize: 736.9 KiB