Package: GA4GHclient Version: 1.32.0 Command: /home/biocbuild/bbs-3.21-bioc/R/bin/R CMD INSTALL GA4GHclient StartedAt: 2025-10-05 15:44:31 -0400 (Sun, 05 Oct 2025) EndedAt: 2025-10-05 15:45:09 -0400 (Sun, 05 Oct 2025) EllapsedTime: 37.9 seconds RetCode: 0 Status: OK