Package: GA4GHclient Version: 1.32.0 Command: /Library/Frameworks/R.framework/Resources/bin/R CMD build --keep-empty-dirs --no-resave-data GA4GHclient StartedAt: 2025-10-13 19:09:33 -0400 (Mon, 13 Oct 2025) EndedAt: 2025-10-13 19:12:28 -0400 (Mon, 13 Oct 2025) EllapsedTime: 174.8 seconds RetCode: 0 Status: OK PackageFile: GA4GHclient_1.32.0.tar.gz PackageFileSize: 637.5 KiB