Package: GA4GHclient Version: 1.32.0 Command: /Library/Frameworks/R.framework/Resources/bin/R CMD build --keep-empty-dirs --no-resave-data GA4GHclient StartedAt: 2025-04-21 16:22:53 -0400 (Mon, 21 Apr 2025) EndedAt: 2025-04-21 16:23:30 -0400 (Mon, 21 Apr 2025) EllapsedTime: 36.4 seconds RetCode: 0 Status: OK PackageFile: GA4GHclient_1.32.0.tar.gz PackageFileSize: 637.4 KiB