Package: GA4GHclient Version: 1.32.0 Command: /Library/Frameworks/R.framework/Resources/bin/R CMD INSTALL GA4GHclient StartedAt: 2025-10-02 17:31:11 -0400 (Thu, 02 Oct 2025) EndedAt: 2025-10-02 17:31:56 -0400 (Thu, 02 Oct 2025) EllapsedTime: 45.2 seconds RetCode: 0 Status: OK