Package: G4SNVHunter Version: 1.2.0 Command: /home/biocbuild/R/R/bin/R CMD INSTALL G4SNVHunter StartedAt: 2025-11-13 21:49:09 -0000 (Thu, 13 Nov 2025) EndedAt: 2025-11-13 21:50:13 -0000 (Thu, 13 Nov 2025) EllapsedTime: 64.0 seconds RetCode: 0 Status: OK