Package: G4SNVHunter Version: 1.2.0 Command: /home/biocbuild/R/R/bin/R CMD build --keep-empty-dirs --no-resave-data G4SNVHunter StartedAt: 2025-11-14 01:55:47 -0000 (Fri, 14 Nov 2025) EndedAt: 2025-11-14 01:56:50 -0000 (Fri, 14 Nov 2025) EllapsedTime: 63.0 seconds RetCode: 0 Status: OK PackageFile: G4SNVHunter_1.2.0.tar.gz PackageFileSize: 990.8 KiB