Package: G4SNVHunter Version: 1.2.0 Command: /home/biocbuild/bbs-3.22-bioc/R/bin/R CMD check --install=check:G4SNVHunter.install-out.txt --library=/home/biocbuild/bbs-3.22-bioc/R/site-library --timings G4SNVHunter_1.2.0.tar.gz StartedAt: 2025-11-11 23:49:39 -0500 (Tue, 11 Nov 2025) EndedAt: 2025-11-12 00:08:03 -0500 (Wed, 12 Nov 2025) EllapsedTime: 1104.0 seconds RetCode: 0 Status: WARNINGS CheckDir: G4SNVHunter.Rcheck Warnings: 1