Package: G4SNVHunter Version: 1.2.0 Command: /home/biocbuild/bbs-3.22-bioc/R/bin/R CMD build --keep-empty-dirs --no-resave-data --md5 G4SNVHunter StartedAt: 2025-11-11 17:47:01 -0500 (Tue, 11 Nov 2025) EndedAt: 2025-11-11 17:47:51 -0500 (Tue, 11 Nov 2025) EllapsedTime: 49.1 seconds RetCode: 0 Status: OK PackageFile: G4SNVHunter_1.2.0.tar.gz PackageFileSize: 967.3 KiB