Package: G4SNVHunter Version: 1.0.0 Command: /Library/Frameworks/R.framework/Resources/bin/R CMD INSTALL G4SNVHunter StartedAt: 2025-10-13 16:02:04 -0400 (Mon, 13 Oct 2025) EndedAt: 2025-10-13 16:02:25 -0400 (Mon, 13 Oct 2025) EllapsedTime: 21.0 seconds RetCode: 0 Status: OK