Package: G4SNVHunter Version: 1.0.0 Command: /Library/Frameworks/R.framework/Resources/bin/R CMD build --keep-empty-dirs --no-resave-data G4SNVHunter StartedAt: 2025-10-14 00:38:20 -0400 (Tue, 14 Oct 2025) EndedAt: 2025-10-14 00:40:34 -0400 (Tue, 14 Oct 2025) EllapsedTime: 134.0 seconds RetCode: 0 Status: OK PackageFile: G4SNVHunter_1.0.0.tar.gz PackageFileSize: 1.608 MiB