Package: FuseSOM Version: 1.12.0 Command: /home/biocbuild/R/R/bin/R CMD INSTALL FuseSOM StartedAt: 2025-11-13 21:24:27 -0000 (Thu, 13 Nov 2025) EndedAt: 2025-11-13 21:25:01 -0000 (Thu, 13 Nov 2025) EllapsedTime: 34.5 seconds RetCode: 0 Status: OK