Package: FuseSOM Version: 1.12.0 Command: /home/biocbuild/R/R/bin/R CMD build --keep-empty-dirs --no-resave-data FuseSOM StartedAt: 2025-11-14 01:55:40 -0000 (Fri, 14 Nov 2025) EndedAt: 2025-11-14 01:57:14 -0000 (Fri, 14 Nov 2025) EllapsedTime: 94.0 seconds RetCode: 0 Status: OK PackageFile: FuseSOM_1.12.0.tar.gz PackageFileSize: 2.043 MiB