Package: FuseSOM Version: 1.12.0 Command: /home/biocbuild/bbs-3.22-bioc/R/bin/R CMD check --install=check:FuseSOM.install-out.txt --library=/home/biocbuild/bbs-3.22-bioc/R/site-library --timings FuseSOM_1.12.0.tar.gz StartedAt: 2025-11-11 23:49:39 -0500 (Tue, 11 Nov 2025) EndedAt: 2025-11-11 23:53:15 -0500 (Tue, 11 Nov 2025) EllapsedTime: 216.2 seconds RetCode: 0 Status: OK CheckDir: FuseSOM.Rcheck Warnings: 0