Package: FuseSOM Version: 1.12.0 Command: /home/biocbuild/bbs-3.22-bioc/R/bin/R CMD build --keep-empty-dirs --no-resave-data --md5 FuseSOM StartedAt: 2025-11-11 17:46:45 -0500 (Tue, 11 Nov 2025) EndedAt: 2025-11-11 17:47:47 -0500 (Tue, 11 Nov 2025) EllapsedTime: 61.1 seconds RetCode: 0 Status: OK PackageFile: FuseSOM_1.12.0.tar.gz PackageFileSize: 2.647 MiB