Package: FuseSOM Version: 1.10.0 Command: /Library/Frameworks/R.framework/Resources/bin/R CMD build --keep-empty-dirs --no-resave-data FuseSOM StartedAt: 2025-04-21 16:50:54 -0400 (Mon, 21 Apr 2025) EndedAt: 2025-04-21 16:52:00 -0400 (Mon, 21 Apr 2025) EllapsedTime: 66.3 seconds RetCode: 0 Status: OK PackageFile: FuseSOM_1.10.0.tar.gz PackageFileSize: 2.643 MiB