Package: FlowSOM Version: 2.18.0 Command: /home/biocbuild/R/R/bin/R CMD INSTALL FlowSOM StartedAt: 2025-11-10 21:19:42 -0000 (Mon, 10 Nov 2025) EndedAt: 2025-11-10 21:20:02 -0000 (Mon, 10 Nov 2025) EllapsedTime: 20.2 seconds RetCode: 0 Status: OK