Package: FlowSOM Version: 2.18.0 Command: /home/biocbuild/R/R/bin/R CMD build --keep-empty-dirs --no-resave-data FlowSOM StartedAt: 2025-11-11 01:45:49 -0000 (Tue, 11 Nov 2025) EndedAt: 2025-11-11 01:48:13 -0000 (Tue, 11 Nov 2025) EllapsedTime: 144.1 seconds RetCode: 0 Status: OK PackageFile: FlowSOM_2.18.0.tar.gz PackageFileSize: 4.894 MiB