Package: FlowSOM Version: 2.18.0 Command: /home/biocbuild/bbs-3.22-bioc/R/bin/R CMD INSTALL FlowSOM StartedAt: 2025-11-11 15:17:58 -0500 (Tue, 11 Nov 2025) EndedAt: 2025-11-11 15:18:11 -0500 (Tue, 11 Nov 2025) EllapsedTime: 12.6 seconds RetCode: 0 Status: OK