Package: FlowSOM Version: 2.16.0 Command: /Library/Frameworks/R.framework/Resources/bin/R CMD INSTALL FlowSOM StartedAt: 2025-09-25 15:23:23 -0400 (Thu, 25 Sep 2025) EndedAt: 2025-09-25 15:23:55 -0400 (Thu, 25 Sep 2025) EllapsedTime: 31.7 seconds RetCode: 0 Status: OK