Package: FitHiC Version: 1.36.0 Command: /home/biocbuild/R/R/bin/R CMD build --keep-empty-dirs --no-resave-data FitHiC StartedAt: 2025-11-14 01:50:16 -0000 (Fri, 14 Nov 2025) EndedAt: 2025-11-14 01:52:42 -0000 (Fri, 14 Nov 2025) EllapsedTime: 146.1 seconds RetCode: 0 Status: OK PackageFile: FitHiC_1.36.0.tar.gz PackageFileSize: 27.66 MiB