Package: FinfoMDS Version: 1.0.0 Command: /home/biocbuild/bbs-3.22-bioc/R/bin/R CMD check --install=check:FinfoMDS.install-out.txt --library=/home/biocbuild/bbs-3.22-bioc/R/site-library --timings FinfoMDS_1.0.0.tar.gz StartedAt: 2025-11-14 23:47:17 -0500 (Fri, 14 Nov 2025) EndedAt: 2025-11-14 23:50:52 -0500 (Fri, 14 Nov 2025) EllapsedTime: 215.2 seconds RetCode: 0 Status: OK CheckDir: FinfoMDS.Rcheck Warnings: 0