Package: FinfoMDS Version: 1.0.0 Command: /home/biocbuild/bbs-3.22-bioc/R/bin/R CMD build --keep-empty-dirs --no-resave-data --md5 FinfoMDS StartedAt: 2025-11-11 17:43:14 -0500 (Tue, 11 Nov 2025) EndedAt: 2025-11-11 17:44:05 -0500 (Tue, 11 Nov 2025) EllapsedTime: 51.0 seconds RetCode: 0 Status: OK PackageFile: FinfoMDS_1.0.0.tar.gz PackageFileSize: 358.9 KiB