Package: FinfoMDS Version: 1.0.0 Command: rm -rf FinfoMDS.buildbin-libdir && mkdir FinfoMDS.buildbin-libdir && /Users/biocbuild/BBS/utils/build-universal.sh FinfoMDS_1.0.0.tar.gz /Library/Frameworks/R.framework/Resources/bin/R FinfoMDS.buildbin-libdir StartedAt: 2025-11-04 01:40:16 -0500 (Tue, 04 Nov 2025) EndedAt: 2025-11-04 01:40:46 -0500 (Tue, 04 Nov 2025) EllapsedTime: 30.2 seconds RetCode: 0 Status: OK PackageFile: FinfoMDS_1.0.0.tgz PackageFileSize: 324.3 KiB