Package: FinfoMDS Version: 1.0.0 Maintainer: Soobin Kim MaintainerEmail: soob.kim00 at gmail.com git_url: https://git.bioconductor.org/packages/FinfoMDS git_branch: RELEASE_3_22 git_last_commit: 91ad4bd git_last_commit_date: 2025-10-29 11:37:49 -0500 (Wed, 29 Oct 2025)