Package: FindIT2 Version: 1.16.0 Command: /home/biocbuild/bbs-3.22-bioc/R/bin/R CMD check --install=check:FindIT2.install-out.txt --library=/home/biocbuild/bbs-3.22-bioc/R/site-library --timings FindIT2_1.16.0.tar.gz StartedAt: 2025-11-14 23:46:46 -0500 (Fri, 14 Nov 2025) EndedAt: 2025-11-14 23:53:41 -0500 (Fri, 14 Nov 2025) EllapsedTime: 414.6 seconds RetCode: 0 Status: OK CheckDir: FindIT2.Rcheck Warnings: 0