Package: FindIT2 Version: 1.16.0 Command: /Library/Frameworks/R.framework/Resources/bin/R CMD INSTALL FindIT2 StartedAt: 2025-11-03 15:40:50 -0500 (Mon, 03 Nov 2025) EndedAt: 2025-11-03 15:41:40 -0500 (Mon, 03 Nov 2025) EllapsedTime: 50.9 seconds RetCode: 0 Status: OK