Package: FindIT2 Version: 1.16.0 Command: /Library/Frameworks/R.framework/Resources/bin/R CMD build --keep-empty-dirs --no-resave-data FindIT2 StartedAt: 2025-11-03 17:02:18 -0500 (Mon, 03 Nov 2025) EndedAt: 2025-11-03 17:04:07 -0500 (Mon, 03 Nov 2025) EllapsedTime: 108.6 seconds RetCode: 0 Status: OK PackageFile: FindIT2_1.16.0.tar.gz PackageFileSize: 2.32 MiB