Package: FindIT2 Version: 1.14.0 Command: /home/biocbuild/R/R/bin/R CMD INSTALL FindIT2 StartedAt: 2025-10-09 20:54:38 -0000 (Thu, 09 Oct 2025) EndedAt: 2025-10-09 20:55:31 -0000 (Thu, 09 Oct 2025) EllapsedTime: 53.3 seconds RetCode: 0 Status: OK