Package: FindIT2 Version: 1.14.0 Command: /home/biocbuild/R/R/bin/R CMD build --keep-empty-dirs --no-resave-data FindIT2 StartedAt: 2025-10-10 00:51:39 -0000 (Fri, 10 Oct 2025) EndedAt: 2025-10-10 00:53:58 -0000 (Fri, 10 Oct 2025) EllapsedTime: 139.0 seconds RetCode: 0 Status: OK PackageFile: FindIT2_1.14.0.tar.gz PackageFileSize: 1.958 MiB