Package: FeatSeekR Version: 1.10.0 Command: /home/biocbuild/bbs-3.22-bioc/R/bin/R CMD INSTALL FeatSeekR StartedAt: 2025-11-11 15:35:07 -0500 (Tue, 11 Nov 2025) EndedAt: 2025-11-11 15:35:28 -0500 (Tue, 11 Nov 2025) EllapsedTime: 20.4 seconds RetCode: 0 Status: OK