Package: FeatSeekR Version: 1.8.0 Command: /home/biocbuild/R/R/bin/R CMD INSTALL FeatSeekR StartedAt: 2025-10-13 20:45:37 -0000 (Mon, 13 Oct 2025) EndedAt: 2025-10-13 20:46:08 -0000 (Mon, 13 Oct 2025) EllapsedTime: 30.4 seconds RetCode: 0 Status: OK