Package: FeatSeekR Version: 1.10.0 Command: rm -rf FeatSeekR.buildbin-libdir && mkdir FeatSeekR.buildbin-libdir && /Users/biocbuild/BBS/utils/build-universal.sh FeatSeekR_1.10.0.tar.gz /Library/Frameworks/R.framework/Resources/bin/R FeatSeekR.buildbin-libdir StartedAt: 2025-11-04 23:03:30 -0500 (Tue, 04 Nov 2025) EndedAt: 2025-11-04 23:03:39 -0500 (Tue, 04 Nov 2025) EllapsedTime: 9.2 seconds RetCode: 0 Status: OK PackageFile: FeatSeekR_1.10.0.tgz PackageFileSize: 392 KiB