Package: FastqCleaner Version: 1.28.0 Command: /home/biocbuild/R/R/bin/R CMD INSTALL FastqCleaner StartedAt: 2025-11-13 22:00:29 -0000 (Thu, 13 Nov 2025) EndedAt: 2025-11-13 22:01:32 -0000 (Thu, 13 Nov 2025) EllapsedTime: 63.6 seconds RetCode: 0 Status: OK