Package: FastqCleaner Version: 1.28.0 Command: /home/biocbuild/R/R/bin/R CMD build --keep-empty-dirs --no-resave-data FastqCleaner StartedAt: 2025-11-14 01:46:14 -0000 (Fri, 14 Nov 2025) EndedAt: 2025-11-14 01:47:48 -0000 (Fri, 14 Nov 2025) EllapsedTime: 94.1 seconds RetCode: 0 Status: OK PackageFile: FastqCleaner_1.28.0.tar.gz PackageFileSize: 4.261 MiB