Package: FastqCleaner Version: 1.28.0 Command: /home/biocbuild/bbs-3.22-bioc/R/bin/R CMD check --install=check:FastqCleaner.install-out.txt --library=/home/biocbuild/bbs-3.22-bioc/R/site-library --timings FastqCleaner_1.28.0.tar.gz StartedAt: 2025-11-11 23:40:50 -0500 (Tue, 11 Nov 2025) EndedAt: 2025-11-11 23:44:53 -0500 (Tue, 11 Nov 2025) EllapsedTime: 243.3 seconds RetCode: 0 Status: OK CheckDir: FastqCleaner.Rcheck Warnings: 0