Package: FastqCleaner Version: 1.28.0 Command: /home/biocbuild/bbs-3.22-bioc/R/bin/R CMD build --keep-empty-dirs --no-resave-data --md5 FastqCleaner StartedAt: 2025-11-11 17:41:27 -0500 (Tue, 11 Nov 2025) EndedAt: 2025-11-11 17:42:45 -0500 (Tue, 11 Nov 2025) EllapsedTime: 78.1 seconds RetCode: 0 Status: OK PackageFile: FastqCleaner_1.28.0.tar.gz PackageFileSize: 4.322 MiB