Package: FastqCleaner Version: 1.26.0 Command: /home/biocbuild/bbs-3.21-bioc/R/bin/R CMD INSTALL FastqCleaner StartedAt: 2025-09-28 16:06:04 -0400 (Sun, 28 Sep 2025) EndedAt: 2025-09-28 16:06:49 -0400 (Sun, 28 Sep 2025) EllapsedTime: 45.1 seconds RetCode: 0 Status: OK