Package: FamAgg Version: 1.38.0 Command: /home/biocbuild/bbs-3.22-bioc/R/bin/R CMD check --install=check:FamAgg.install-out.txt --library=/home/biocbuild/bbs-3.22-bioc/R/site-library --timings FamAgg_1.38.0.tar.gz StartedAt: 2025-11-16 23:45:33 -0500 (Sun, 16 Nov 2025) EndedAt: 2025-11-16 23:48:14 -0500 (Sun, 16 Nov 2025) EllapsedTime: 160.2 seconds RetCode: 0 Status: OK CheckDir: FamAgg.Rcheck Warnings: 0