Package: FamAgg Version: 1.36.0 Command: /home/biocbuild/R/R/bin/R CMD INSTALL FamAgg StartedAt: 2025-10-13 20:23:11 -0000 (Mon, 13 Oct 2025) EndedAt: 2025-10-13 20:23:29 -0000 (Mon, 13 Oct 2025) EllapsedTime: 17.8 seconds RetCode: 0 Status: OK