Package: FamAgg Version: 1.36.0 Command: /home/biocbuild/R/R/bin/R CMD build --keep-empty-dirs --no-resave-data FamAgg StartedAt: 2025-10-14 00:49:36 -0000 (Tue, 14 Oct 2025) EndedAt: 2025-10-14 00:51:33 -0000 (Tue, 14 Oct 2025) EllapsedTime: 117.1 seconds RetCode: 0 Status: OK PackageFile: FamAgg_1.36.0.tar.gz PackageFileSize: 1.643 MiB