Package: FamAgg Version: 1.38.0 Command: /Library/Frameworks/R.framework/Resources/bin/R CMD INSTALL FamAgg StartedAt: 2025-11-20 16:20:48 -0500 (Thu, 20 Nov 2025) EndedAt: 2025-11-20 16:21:02 -0500 (Thu, 20 Nov 2025) EllapsedTime: 14.1 seconds RetCode: 0 Status: OK