Package: FamAgg Version: 1.38.0 Command: /Library/Frameworks/R.framework/Resources/bin/R CMD build --keep-empty-dirs --no-resave-data FamAgg StartedAt: 2025-11-21 01:01:41 -0500 (Fri, 21 Nov 2025) EndedAt: 2025-11-21 01:02:43 -0500 (Fri, 21 Nov 2025) EllapsedTime: 62.7 seconds RetCode: 0 Status: OK PackageFile: FamAgg_1.38.0.tar.gz PackageFileSize: 1.655 MiB