Package: FRASER Version: 2.6.0 Command: /home/biocbuild/bbs-3.22-bioc/R/bin/R CMD INSTALL FRASER StartedAt: 2025-11-02 15:58:39 -0500 (Sun, 02 Nov 2025) EndedAt: 2025-11-02 16:00:12 -0500 (Sun, 02 Nov 2025) EllapsedTime: 93.0 seconds RetCode: 0 Status: OK