Package: FLAMES Version: 2.4.1 Command: /home/biocbuild/bbs-3.22-bioc/R/bin/R CMD INSTALL FLAMES StartedAt: 2025-11-02 16:11:33 -0500 (Sun, 02 Nov 2025) EndedAt: 2025-11-02 16:13:36 -0500 (Sun, 02 Nov 2025) EllapsedTime: 123.3 seconds RetCode: 0 Status: OK