Package: FLAMES Version: 2.4.1 Command: /home/biocbuild/bbs-3.22-bioc/R/bin/R CMD build --keep-empty-dirs --no-resave-data --md5 FLAMES StartedAt: 2025-10-31 17:49:09 -0400 (Fri, 31 Oct 2025) EndedAt: 2025-10-31 17:51:55 -0400 (Fri, 31 Oct 2025) EllapsedTime: 166.2 seconds RetCode: 0 Status: OK PackageFile: FLAMES_2.4.1.tar.gz PackageFileSize: 4.101 MiB