Package: FISHalyseR Version: 1.44.0 Command: /Library/Frameworks/R.framework/Resources/bin/R CMD INSTALL FISHalyseR StartedAt: 2025-11-06 15:07:28 -0500 (Thu, 06 Nov 2025) EndedAt: 2025-11-06 15:07:30 -0500 (Thu, 06 Nov 2025) EllapsedTime: 2.2 seconds RetCode: 0 Status: OK