Package: FISHalyseR Version: 1.44.0 Command: rm -rf FISHalyseR.buildbin-libdir && mkdir FISHalyseR.buildbin-libdir && /Users/biocbuild/BBS/utils/build-universal.sh FISHalyseR_1.44.0.tar.gz /Library/Frameworks/R.framework/Resources/bin/R FISHalyseR.buildbin-libdir StartedAt: 2025-11-06 23:04:59 -0500 (Thu, 06 Nov 2025) EndedAt: 2025-11-06 23:05:02 -0500 (Thu, 06 Nov 2025) EllapsedTime: 3.1 seconds RetCode: 0 Status: OK PackageFile: FISHalyseR_1.44.0.tgz PackageFileSize: 831 KiB