Package: FGNet Version: 3.44.0 Command: /home/biocbuild/R/R/bin/R CMD INSTALL FGNet StartedAt: 2025-11-13 21:16:16 -0000 (Thu, 13 Nov 2025) EndedAt: 2025-11-13 21:16:42 -0000 (Thu, 13 Nov 2025) EllapsedTime: 26.0 seconds RetCode: 0 Status: OK