Package: FGNet Version: 3.44.0 Command: /home/biocbuild/bbs-3.22-bioc/R/bin/R CMD INSTALL FGNet StartedAt: 2025-11-11 15:15:10 -0500 (Tue, 11 Nov 2025) EndedAt: 2025-11-11 15:15:20 -0500 (Tue, 11 Nov 2025) EllapsedTime: 10.1 seconds RetCode: 0 Status: OK